BEGIN:VCALENDAR
VERSION:2.0
PRODID:Imitheme.com 
BEGIN:VEVENT
UID:20260421T053248858620429
DTSTAMP;TZID=UTC:2026-04-21 05:32:48
DTSTART;TZID=America/Los_Angeles:20260421T053248
DTEND;TZID=America/Los_Angeles:20260421T053248
SUMMARY:TERAPIA DE INTEGRACIÓN - LUCILA
LOCATION:
DESCRIPTION:
URL:https://integraciondinamica.com.ar/eventer/terapia-de-integracion-lucila-6/
END:VEVENT
END:VCALENDAR
